Workbook
Name ku: List2!$G$5:$N$10
Name raz: List2!$B$3:$E$14
Name us: List2!$A$4:$B$14

Sheet List1
C2: NORMIRANJE SJETVE za ratarske usjeve
B6: USJEVI GUSTOG SKLOPA | H6: OKOPAVINSKI USJEVI
B9: =IF(ISERROR((List2!A2)),"",(List2!A2)) -> Izaberi usjev! | H9: =IF(ISERROR((List2!H4)),"",(List2!H4)) -> Izaberi usjev!
B11: Usjev | H11: Usjev
B14: Aps. masa zrna (g) | H14: =B14 -> Aps. masa zrna (g)
E15: U.V. sjemena (%) | K15: =E15 -> U.V. sjemena (%) | N15: Razmak sjem.(cm)
E16: =IF(ISERROR((List2!B23)),"",(List2!B23)) -> 0 | K16: =IF(ISERROR((List2!I15)),"",(List2!I15)) -> 0 | N16: =IF(ISERROR((List2!L4)),"",(List2!L4)) -> 0
B17: Čistoća sjemena (%) | H17: =B17 -> Čistoća sjemena (%)
E18: Za sjetvu sj./m2 | K18: Gustina usjeva | N18: Razmak između sjemena u redu za željenu gustinu usjeva.
E19: =IF(ISERROR((List2!C28)),"",(List2!C28)) | K19: =IF(ISERROR((List2!J14)),"",(List2!J14))
B20: Klijavost jemena (%) | H20: =B20 -> Klijavost jemena (%)
E21: Kg/ha sjemena | K21: =E21 -> Kg/ha sjemena | N21: Sjetvene jedinice
E22: =IF(ISERROR((List2!B26)),"",(List2!B26)) | K22: =IF(ISERROR((List2!J16)),"",(List2!J16)) | N22: =IF(ISERROR((List2!L15)),"",(List2!L15))
B23: Broj sjem./m2 | H23: Razmak kl.sjem. (cm)
B27: Masa 1000 zrna (u g) | E27: Broj sjemenki/m2 | H27: =B27 -> Masa 1000 zrna (u g) | K27: Razmak redova (cm) | N27: Razmak u redu (cm)
B28: Pšenica | C28: 35-45 | E28: 600-700 | H28: Kukuruz | I28: 100-450 | K28: 70 | N28: 12,5-31
B29: Raž | C29: 20-35 | E29: 400-700 | H29: Soja | I29: 73-250 | K29: 50 | N29: 2-8
B30: Ječam | C30: 30-45 | E30: 500-600 | H30: Suncokret | I30: 40-111 | K30: 70 | N30: 25-35
B31: Zob | C31: 20-35 | E31: 500-550 | H31: Ulj.repica | I31: 73-250 | K31: 40 | N31: 1,5-5
B32: Tritikale | C32: 30-45 | E32: 450-600 | H32: Š.repa | I32: 15-40 | K32: 50 | N32: 15-19
B33: Lucerka | C33: 1-3 | E33: 400-600
I34: Ovde možete da unesete razmak između redova
B35: Programirao Prof. dr Ilia Komljenović

Sheet List2
A1: 1 | B1: 1
A2: =VLOOKUP(A1,us,2,FALSE) -> Izaberi usjev!
A3: 1
A4: 1 | B4: Izaberi usjev! | C4: 0 | D4: 0 | H4: =VLOOKUP(A3,ku,2,FALSE) -> Izaberi usjev! | I4: =VLOOKUP(A3,ku,4,FALSE) -> 0 | J4: =VLOOKUP(A3,ku,5,FALSE) -> 0 | K4: =VLOOKUP(A3,ku,6,FALSE) -> 0 | L4: =VLOOKUP(A3,ku,7,FALSE) -> 0 | M4: =VLOOKUP(A3,ku,8,FALSE) -> 0
A5: 2 | B5: Pšenica | C5: 2 | D5: 1 | E5: 1 | G5: 1 | H5: Izaberi usjev!
A6: 3 | B6: Ječam | C6: 3 | D6: 1 | E6: 1 | G6: 2 | H6: Kukuruz | I6: 2 | J6: =List1!K28/J12 -> 0.7 | K6: =J6*I14 -> 0 | L6: =L15 -> #DIV/0! | M6: =K15 -> #DIV/0! | N6: 25000
A7: 4 | B7: Zob | C7: 4 | D7: 1 | E7: 1 | G7: 3 | H7: Soja | I7: 3 | J7: =List1!K29/J12 -> 0.5 | K7: =J7*I14 -> 0 | L7: 0 | M7: =K15 -> #DIV/0! | N7: 0
A8: 5 | B8: Tritikale | C8: 5 | D8: 1 | E8: 1 | G8: 4 | H8: Suncokret | I8: 4 | J8: =List1!K30/J12 -> 0.7 | K8: =J8*I14 -> 0 | L8: 0 | M8: =K15 -> #DIV/0! | N8: 0
A9: 6 | B9: Lucerka | C9: 6 | D9: 1 | E9: 1 | G9: 5 | H9: Uljana repica | I9: 5 | J9: =List1!K31/J12 -> 0.4 | K9: =J9*I14 -> 0 | L9: 0 | M9: =K15 -> #DIV/0! | N9: 0
G10: 6 | H10: Šećerna repa | I10: 6 | J10: =List1!K32/J12 -> 0.5 | K10: =J10*I14 -> 0 | L10: 0 | M10: =K15 -> #DIV/0! | N10: 100000
H12: 1000 | I12: 10000 | J12: 100
H13: =List1!H15 -> 0 | I13: =H13/H12 -> 0 | J13: =I12/I13 -> #DIV/0! | K13: =(J16/I13)*H12 -> #DIV/0!
H14: =List1!H18 -> 0 | I14: =H16/J12 -> 0 | J14: =I12/J4 -> #DIV/0! | K14: =I12/K13 -> #DIV/0!
H15: =List1!H21 -> 0 | I15: =H14*H15 -> 0 | K15: =(K14/I4)*J12 -> #DIV/0! | L15: =K13/M4 -> #DIV/0!
H16: =List1!H24 -> 0 | I16: =(J14*I13)/H12 -> #DIV/0! | J16: =I16/I15 -> #DIV/0!
A22: =List1!B15 -> 0 | B22: UV
A23: =List1!B18 -> 0 | B23: =A23*A24 -> 0
A24: =List1!B21 -> 0 | B24: =(A25*A22)/1000 -> 0
A25: =List1!B24 -> 0 | B25: =(B24*10000)/1000 -> 0
B26: =B25/B23 -> #DIV/0! | C26: =B26*1000 -> #DIV/0!
C27: =C26/A30 -> #DIV/0!
A28: =A25/100 -> 0 | C28: =C27/I12 -> #DIV/0!
A30: =A22/1000 -> 0
