Workbook
Name ca: List3!$B$13:$D$25
Name dub: List3!$M$1:$N$12
Name dubi: List3!$K$1:$L$12
Name F: List2!$K$1:$M$7
Name fosfdj: List2!$U$8:$W$12
Name hranj: List2!$L$35:$O$52
Name humsol: List2!$P$45:$Q$47
Name humus: List2!$F$1:$G$4
Name izn: List2!$A$3:$D$20
Name K: List2!$N$1:$P$7
Name kalijumdj: List2!$T$15:$V$19
Name KAN: List2!$O$25:$P$27
Name KANa: List2!$N$24:$O$27
Name kd: List3!$I$43:$K$47
Name kdj: List2!$U$15:$V$19
Name kis: List3!$C$2:$E$9
Name kk: List3!$D$44:$E$48
Name MAP: List3!$B$30:$C$35
Name mapom: List3!$Q$4:$S$4
Name N: List2!$H$1:$J$7
Name Na: List2!$I$1:$J$7
Name NPK: List2!$E$10:$F$24
Name NPKP: List2!$F$10:$I$24
Name ostaci: List2!$Q$1:$R$8
Name p: List2!$V$8:$W$12
Name pH: List2!$Q$37:$U$39
Name pHa: List2!$R$38:$U$39
Name pp: List3!$D$30:$E$35
Name Soja: DJUB!$S$1:$V$1
Name st: List2!$R$11:$T$13
Name stajnjak: List2!$O$11:$P$17
Name start: List2!$J$10:$K$19
Name Startno: List2!$K$10:$N$19
Name stv: List3!$H$17:$I$28
Name sup: List3!$I$31:$K$36
Name tekstura: List3!$A$2:$B$9
Name usjev: List2!$H$43:$I$60

Sheet DJUB
A1: Prof. dr Ilija Komljenović Poljoprivredni fakultet, Banja Luka Katedra za ratarstvo Bulavar vojvode Petra Bojovića 1a Banja Luka | G1: AL-KALKULATOR Kalkulator đubriva za ratarske usjeve Programirao: prof. dr Ilija Komljenović http://www.ilija.comuf.com | M1: REZULTATI NORMIRANJA ĐUBRIVA | S1: Soja | T1: Za soju primjeniti do 60 kg/ha azota
T2: Korekcija đubrenja
T4: Žetv. ostaci (t/ha) | V4: N (kg/ha | W4: Urea kg/ha
M5: Usjev: | O5: =IF(ISERROR((List2!D28)),"",(List2!D28)) -> Pšenica | Q5: Površina: | R5: Ukupno(t): | T5: 0 | V5: =IF(ISERROR((List2!T2)),"",(List2!T2)) -> 0 | W5: =IF(ISERROR((List2!T4)),"",(List2!T4)) -> 0
M6: Planirani prinos: | O6: =IF(ISERROR((J12)),"",(J12)) -> 0 | P6: t/ha | Q6: =IF(ISERROR((J9)),"",(J9)) -> 0 | R6: =IF(ISERROR((O6*Q6)),"",(O6*Q6)) -> 0
T7: Fosforna đubriva | V7: Kalijumova đubriva
B8: Prezime i ime vlasnika | G8: Naziv parcele | J8: Površina (ha) | O8: N | P8: P | Q8: K | T8: Superfosfat | V8: K-sol 40%
M9: Iznošenje prinosom: | O9: =IF(ISERROR((List2!B35)),"",(List2!B35)) -> 0 | P9: =IF(ISERROR((List2!C35)),"",(List2!C35)) -> 0 | Q9: =IF(ISERROR((List2!D35)),"",(List2!D35)) -> 0 | R9: kg/ha
O10: Odnos P/K: | Q10: =IF(ISERROR((Q11/P11)),"",(Q11/P11)) | T10: P2O5 (kg) | U10: P-đubrivo | V10: K2O (kg) | W10: K-đubrivo
B11: Adresa vlasnika | G11: Vrsta usjeva | J11: Planirani prinos t/ha | M11: Vratiti u zemljište: | O11: =IF(ISERROR((List2!B36)),"",(List2!B36)) | P11: =IF(ISERROR((List2!C36)),"",(List2!C36)) | Q11: =IF(ISERROR((List2!D36)),"",(List2!D36)) | R11: kg/ha | T11: =IF(ISERROR((ABS(T38))),"",(ABS(T38))) | U11: =IF(ISERROR((List2!T25)),"",(List2!T25)) | V11: =IF(ISERROR((ABS(T37))),"",(ABS(T37))) | W11: =IF(ISERROR((List2!T24)),"",(List2!T24))
G12: Malina
N13: Osnovno đubrenje | T13: NAPOMENE
B14: Stajnjak (t/ha) | D14: Godina korišćenja | G14: pH (KCl) | J14: Humus %) | T14: =(IF(J18<Q10,"NEPOVOLJAN ODNOS K/P!Izaberite drugu formulaciju NPK sa naglašenim kalijumom!",""))
G15: 5,6-8,0 | J15: #N/A | M15: Stajnjak: | N15: t/ha | O15: N | P15: P | Q15: K
N16: =IF(ISERROR((List2!U35)),"",(List2!U35)) | O16: =IF(ISERROR((List2!Q21)),"",(List2!Q21)) | P16: =IF(ISERROR((List2!R21)),"",(List2!R21)) | Q16: =IF(ISERROR((List2!S21)),"",(List2!S21)) | R16: kg/ha | T16: =(IF(J18>Q10,"NEPOVOLJAN ODNOS K/P!Izaberite drugu formulaciju NPK sa manjim sadržajem kalijuma!",""))
B17: P2O5 (mg/100 g) | D17: K2O (mg/110 g) | G17: NPK -osnovno đub. | J17: Odnos K/P | M17: NPK
B18: 5-10 | D18: 15-20 | G18: .5:15:30 | J18: =IF(ISERROR((List2!E27)),"",(List2!E27)) | M18: =IF(ISERROR((List2!A28)),"",(List2!A28)) | N18: kg/ha | O18: N | P18: P | Q18: K
N19: =IF(ISERROR((List2!F36)),"",(List2!F36)) | O19: =IF(ISERROR((List2!G36)),"",(List2!G36)) | P19: =IF(ISERROR((List2!H36)),"",(List2!H36)) | Q19: =IF(ISERROR((List2!I36)),"",(List2!I36)) | R19: kg/ha | T19: =(IF(N19<0,"VIŠAK HRANJIVA!Izaberite drugu formulaciju NPK; isključite stajnjak ili startno đubrenje!",""))
B20: NPK-startno đub. | D20: kg/ha | G20: Prihrana | I20: kg/ha N | J20: N-đubrivo (kg/ha)
G21: Bez prih. | I21: =IF(ISERROR((List2!C45)),"",(List2!C45)) -> 0 | J21: =IF(ISERROR((List2!B45)),"",(List2!B45)) | N21: Startno đubrenje
T22: =(IF(N41<0,"MANJAK AZOTA!Ako je manjak azota znatan, primjenite prihranu - osim za soju!",""))
M23: =IF(ISERROR((B21)),"",(B21)) -> 0 | N23: kg/ha | O23: N | P23: P | Q23: K
M24: =IF(ISERROR((List2!A25)),"",(List2!A25)) | N24: =IF(ISERROR((List2!E41)),"",(List2!E41)) -> 0 | O24: =IF(ISERROR((List2!B39)),"",(List2!B39)) -> 0 | P24: =IF(ISERROR((List2!C39)),"",(List2!C39)) -> 0 | Q24: =IF(ISERROR((List2!D39)),"",(List2!D39)) -> 0 | R24: kg/ha | T24: =IF(ISERROR((VLOOKUP(O5,Soja,2,FALSE))),"",(VLOOKUP(O5,Soja,2,FALSE)))
B25: Rekapitulacija đubrenja
N26: Prihrana | T26: =(IF(N37>0,"VIŠAK AZOTA. Ako je višak azota znatan, promjenite formulaciju NPK, isključite prihranu ili startno đubrenje.","")) -> VIŠAK AZOTA. Ako je višak azota znatan, promjenite formulaciju NPK, isključite prihranu ili startno đubrenje.
D27: Osnovno đubenje
H28: N | I28: P | J28: K | M28: =IF(ISERROR((List2!A43)),"",(List2!A43)) -> Bez prih. | N28: =IF(ISERROR((J21)),"",(J21)) | O28: kg/ha | P28: N | Q28: =IF(ISERROR((I21)),"",(I21)) -> 0 | R28: kg/ha
B29: Stajnjak: | C29: =IF(ISERROR((List2!U35)),"",(List2!U35)) | D29: t/ha | E29: =IF(ISERROR((C29*J9)),"",(C29*J9)) | F29: =IF(ISERROR((J9)),"",(J9)) -> 0 | G29: ha (t) | H29: =IF(ISERROR((O16)),"0",(O16)) | I29: =IF(ISERROR((P16)),"0",(P16)) | J29: =IF(ISERROR((Q16)),"0",(Q16)) | K29: kg/ha
B30: =IF(ISERROR((M18)),"",(M18)) | C30: =IF(ISERROR((N19)),"",(N19)) | D30: kg/ha | E30: =IF(ISERROR((C30*J9)),"",(C30*J9)) | F30: =IF(ISERROR((J9)),"",(J9)) -> 0 | G30: ha (kg) | H30: =IF(ISERROR((O19)),"",(O19)) | I30: =IF(ISERROR((P19)),"",(P19)) | J30: =IF(ISERROR((Q19)),"",(Q19)) | K30: kg/ha | M30: I prihrana : | O30: =IF(ISERROR((N28/2)),"",(N28/2)) | P30: kg/ha | Q30: =IF(ISERROR((M28)),"",(M28)) -> Bez prih.
M31: II prihrana: | O31: =IF(ISERROR((N28/2)),"",(N28/2)) | P31: kg/ha N | Q31: =IF(ISERROR((M28)),"",(M28)) -> Bez prih.
D32: Predsjetveno-startno | T32: =(IF(P37<0,"MANJAK KALIJUMA! Ako nedostaje više od 15 kg K2O, izvršite korekciju!!",""))
B33: =IF(ISERROR((List2!A25)),"",(List2!A25)) | C33: =IF(ISERROR((N24)),"",(N24)) -> 0 | D33: kg/ha | E33: =IF(ISERROR((C33*J9)),"",(C33*J9)) -> 0 | F33: =IF(ISERROR((J9)),"",(J9)) -> 0 | G33: ha (kg) | H33: =IF(ISERROR((O24)),"",(O24)) -> 0 | I33: =IF(ISERROR((P24)),"",(P24)) -> 0 | J33: =IF(ISERROR((Q24)),"",(Q24)) -> 0 | K33: kg/ha | N33: Dodati mineralna hranjiva (kg) ha
T34: =(IF(P37>0,"VIŠAK KALIJUMA. Ako norma prelazi preko 15 kg K2O, izaberite drugu formulaciju NPK!","")) -> VIŠAK KALIJUMA. Ako norma prelazi preko 15 kg K2O, izaberite drugu formulaciju NPK!
D35: Prihrana | N35: N | O35: P | P35: K | Q35: kg/ha
B36: =List2!A43 -> Bez prih. | C36: =IF(ISERROR((N28)),"",(N28)) | D36: kg/ha | E36: =IF(ISERROR((C36*J9)),"",(C36*J9)) | F36: =IF(ISERROR((J9)),"",(J9)) -> 0 | G36: ha (kg) | H36: =IF(ISERROR((Q28)),"",(Q28)) -> 0 | I36: kg/ha , I i II prihrana | N36: =IF(ISERROR((List2!G40)),"",(List2!G40)) | O36: =IF(ISERROR((List2!H40)),"",(List2!H40)) | P36: =IF(ISERROR((List2!I40)),"",(List2!I40))
M37: Balans: | N37: =IF(ISERROR((N36-O11)),"",(N36-O11)) | O37: =IF(ISERROR((List2!C42)),"",(List2!C42)) | P37: =IF(ISERROR((P36-Q11)),"",(P36-Q11)) | T37: =IF(ISERROR((IF(P37<0,P37,""))),"",(IF(P37<0,P37,"")))
H38: N | I38: P | J38: K | T38: =IF(ISERROR((IF(O37<0,O37,""))),"",(IF(O37<0,O37,"")))
E39: Ukupno hranjiva: | H39: =IF(ISERROR(N46),"",(N46)) | I39: =IF(ISERROR(O36),"",O36) | J39: =IF(ISERROR(P36),"",P36) | K39: kg/ha | T39: =IF(ISERROR((VLOOKUP(B42,mapom,2,FALSE))),"",(VLOOKUP(B42,mapom,2,FALSE)))
M40: Iz MAP-a | N40: =IF(ISERROR((H42)),"",(H42)) -> 0 | O40: kg/ha N | P40: =IF(ISERROR((VLOOKUP(B42,mapom,3,FALSE))),"",(VLOOKUP(B42,mapom,3,FALSE)))
M41: Đubriti: | N41: =IF(ISERROR((N36-N40)),"",(N36-N40)) | O41: kg/ha N
...

Sheet MEL
C2: PRORAČUN KREČNOG MATERIJALA ZA KALCIZACIJU
B8: pH izmjereni u KCl | E8: Sadržaj gline | H8: Tekstura zemljišta | K8: pH traženi u KCl
B9: 4.3 | H9: =IF(ISERROR((List3!H3)),"",(List3!H3)) -> Ilovasta pjeskulja | K9: =List3!I3 -> 6.6
H11: Kalcizacija (kg/ha)
B12: Hk cmol(+) kg-ha | E12: Dubina zemljišta | H12: Krečni materijal (CaO) | K12: Krečni materijal (CaCO3)
H13: =IF(ISERROR((List3!I13)),"",(List3!I13)) -> 2721.6667 | K13: =List3!J13 -> 4844.5667
C15: FOSFATIZACIJA I KALIZACIJA
E19: FOSFATIZACIJA
B21: Zmp (g/cm3) | E21: mg/100 g P2O5 | H21: Dubina obrade (cm) | K21: Obrađeno zemljište (kg/ha)
E22: 5 | K22: =IF(ISERROR((List3!L19)),"",(List3!L19)) -> 3900000
B24: Podići na mg/100 g P | E24: Dodati P kg/ha | H24: Izaberi P đubrivo | K24: =IF(ISERROR((List3!E38)),"",(List3!E38)) -> Superfosfat (kg/ha)
B25: 20 | E25: =IF(ISERROR((List3!C38)),"",(List3!C38)) -> 585 | K25: =IF(ISERROR((List3!D38)),"",(List3!D38)) -> 3250
E28: KALIZACIJA
B30: Zmp (g/cm3) | E30: mg/100 g K2O | H30: Dubina obrade (cm) | K30: Obrađeno zemljište (kg/ha)
K31: =IF(ISERROR((List3!L26)),"",(List3!L26)) -> 0
B33: Podići na mg/100g K | E33: Dodati K kg/ha | H33: Izaberi K đubrivo | K33: =List3!G48 -> Bez đubrenja
E34: =IF(ISERROR((List3!C42)),"",(List3!C42)) -> 0 | K34: =IF(ISERROR((List3!G45)),"",(List3!G45))
I36: Programirao: prof. dr Ilija Komljenović

Sheet Izvještaj
A1: Poljoprivredni Fakultet Bulevar Vojvode Petra Bojovića 1a Banja Luka Katedra za ratarstvo
A6: Datum: | B6: =IF(ISERROR((TODAY())),"",(TODAY())) -> 44668
A8: Meliorativno đubrenje (kalcizacija, fosfatizacija i kalizacija)
A10: Kalcizacija (krečni materijal) (kg/ha)
A11: pH izmjereni | B11: =IF(ISERROR((List3!A1)),"",(List3!A1)) -> 4.3 | C11: Tesksura | D11: =IF(ISERROR((List3!H3)),"",(List3!H3)) -> Ilovasta pjeskulja | E11: Ph traženi | F11: =IF(ISERROR((List3!I3)),"",(List3!I3)) -> 6.6 | G11: Cao | H11: Caco3
A12: Glina (%) | B12: =IF(ISERROR((List3!H7)),"",(List3!H7)) -> 13-15 | C12: Dubina oranja (cm) | E12: =IF(ISERROR((List3!F18)),"",(List3!F18)) -> 30 | G12: =IF(ISERROR((List3!I13)),"",(List3!I13)) -> 2721.6667 | H12: =IF(ISERROR((List3!J13)),"",(List3!J13)) -> 4844.5667
A13: Fostatizacija (kg/ha )
A14: Fosfor | B14: P205 | C14: Dići na: | D14: Dubina oranja (cm) | F14: Dodati P | G14: =List3!E38 -> Superfosfat (kg/ha)
A15: mg 100/g zem | B15: =IF(ISERROR((MEL!B9)),"",(MEL!B9)) -> 4.3 | C15: =IF(ISERROR((MEL!B25)),"",(MEL!B25)) -> 20 | D15: =IF(ISERROR((List3!M19)),"",(List3!M19)) -> 30 | F15: =List3!C38 -> 585 | G15: =List3!D38 -> 3250
A16: Kalizacija (kg/ha)
A17: Kalijum | B17: K2O | C17: =C14 -> Dići na: | D17: =D14 -> Dubina oranja (cm) | F17: Dodati K | G17: =List3!G48 -> Bez đubrenja
A18: =A15 -> mg 100/g zem | B18: =IF(ISERROR((MEL!E31)),"",(MEL!E31)) -> 0 | C18: =IF(ISERROR((MEL!B34)),"",(MEL!B34)) -> 0 | D18: =IF(ISERROR((List3!M25)),"",(List3!M25)) -> 0 | F18: =IF(ISERROR((List3!C42)),"",(List3!C42)) -> 0 | G18: =IF(ISERROR((List3!G45)),"",(List3!G45))
A20: Preporuka za đubrenje
A22: Opšti podaci
A24: Vlasnik: | C24: =IF(ISERROR((DJUB!B9)),"",(DJUB!B9)) -> 0 | F24: Adresa: | H24: =IF(ISERROR((DJUB!B12)),"",(DJUB!B12)) -> 0
A25: Naziv parcele: | C25: =IF(ISERROR((DJUB!G9)),"",(DJUB!G9)) -> 0 | F25: Površina parcele: | H25: =IF(ISERROR((DJUB!J9)),"",(DJUB!J9)) -> 0 | I25: ha
A26: Vrsta usjeva: | C26: =IF(ISERROR((List2!D28)),"",(List2!D28)) -> Pšenica | F26: Planirani prinos: | H26: =IF(ISERROR((DJUB!J12)),"",(DJUB!J12)) -> 0 | I26: t/ha
A28: Potrebna hranjiva za planirani prinos iznose (kg/ha) : | D28: N | E28: P2O5 | F28: K2O
D29: =IF(ISERROR((DJUB!N46)),"",(DJUB!N46)) | E29: =IF(ISERROR((DJUB!I39)),"",(DJUB!I39)) | F29: =IF(ISERROR((DJUB!J39)),"",(DJUB!J39))
A31: Raspored i količina mineralnih đubriva
A32: Vrsta đubriva | B32: Formulacija | C32: kg/ha | D32: t/ha | E32: Godina korišćenja | G32: Ukupno na
G33: =IF(ISERROR((H25)),"",(H25)) -> 0 | H33: ha
G34: kg | H34: t
A35: Osnovno đubrenje
A36: Stajnjak | B36: - | C36: - | D36: =IF(ISERROR((DJUB!N16)),"",(DJUB!N16)) | E36: =IF(ISERROR((DJUB!D15)),"",(DJUB!D15)) -> 0 | G36: - | H36: =IF(ISERROR((D36*H25)),"",(D36*H25))
A37: NPK | B37: =IF(ISERROR((List2!A28)),"",(List2!A28)) | C37: =IF(ISERROR((List2!F36)),"",(List2!F36)) | D37: - | E37: - | G37: =IF(ISERROR((C37*G33)),"",(C37*G33)) | H37: -
A38: Urea | C38: =IF(ISERROR((List2!T4)),"",(List2!T4)) -> 0 | D38: Mik.bio.razgradnja žetv.ostat. | G38: =IF(ISERROR((C38*G33)),"",(C38*G33)) -> 0 | H38: -
A39: Startno đubrenje (jesen)
A40: NPK | B40: =IF(ISERROR((List2!A25)),"",(List2!A25)) | C40: =IF(ISERROR((DJUB!N24)),"",(DJUB!N24)) -> 0 | D40: - | E40: - | F40: - | G40: =IF(ISERROR((C40*H25)),"",(C40*H25)) -> 0 | H40: -
A41: Prihrana (proljeće)
A42: =DJUB!M28 -> Bez prih. | B42: Ukupno: | C42: =IF(ISERROR((DJUB!J21)),"",(DJUB!J21)) | D42: - | E42: - | F42: - | G42: =IF(ISERROR((C42*H25)),"",(C42*H25)) | H42: -
B43: I prihana | C43: =IF(ISERROR((C42/2)),"",(C42/2)) | D43: - | E43: - | F43: - | G43: =IF(ISERROR((C43*H25)),"",(C43*H25)) | H43: -
B44: II prihrana | C44: =IF(ISERROR((C42/2)),"",(C42/2)) | D44: - | E44: - | F44: - | G44: =IF(ISERROR((C44*H25)),"",(C44*H25)) | H44: -

Sheet List3
A1: =MEL!B9 -> 4.3 | M1: 1 | N1: 0
C2: 1 | D2: 0 | E2: 0 | K2: 2 | L2: 10 | M2: 2 | N2: 1
A3: 2 | B3: <6 | C3: 2 | D3: Pjeskulja | E3: 5.5 | G3: 4 | H3: =VLOOKUP(G3,kis,2,FALSE) -> Ilovasta pjeskulja | I3: =VLOOKUP(G3,kis,3,FALSE) -> 6.6 | K3: 3 | L3: 15 | M3: 3 | N3: 1.5
A4: 3 | B4: 6-12 | C4: 3 | D4: Ilovaĉa | E4: 6 | K4: 4 | L4: 20 | M4: 4 | N4: 2 | Q4: MAP | R4: Samo u prvoj godini nakon meliorativnog đubrenja MAP-om, smanjiti količinu azota za istu količinu koja je dodata ovim đubrivom. | S4: UPOZORENJE! (Pročitajte preporuku na desnom panelu.)
A5: 4 | B5: 13-15 | C5: 4 | D5: Ilovasta pjeskulja | E5: 6.6 | K5: 5 | L5: 25 | M5: 5 | N5: 2.5
A6: 5 | B6: 16-25 | C6: 5 | D6: Pjeskovita ilovaĉa | E6: 6.6 | K6: 6 | L6: 30 | M6: 6 | N6: 3
A7: 6 | B7: 16-25 | C7: 6 | D7: Praškasta ilovaĉa | E7: 6.6 | H7: =VLOOKUP(G3,tekstura,2,FALSE) -> 13-15 | I7: =(I3-A1)/(I8-A1) -> 0.85185185 | K7: 7 | L7: 35 | M7: 7 | N7: 3.5
A8: 7 | B8: >25 | C8: 7 | D8: Glinasta ilovaĉa | E8: 7.1 | I8: 7 | K8: 8 | L8: 40 | M8: 8 | N8: 4
A9: 8 | B9: >25 | C9: 8 | D9: Glina | E9: 7.1 | I9: 1.78 | K9: 9 | L9: 45 | M9: 9 | N9: 4.5
K10: 10 | L10: 50 | M10: 10 | N10: 5
K11: 11 | L11: 55 | M11: 11 | N11: 5.5
K12: 12 | L12: 60 | M12: 12 | N12: 6
B13: 1 | C13: 0 | D13: 0 | F13: 5 | G13: =VLOOKUP(F13,ca,2,FALSE) -> 2.7 | H13: =VLOOKUP(F13,ca,3,FALSE) -> 1065 | I13: =H13*I7*G14 -> 2721.6667 | J13: =I13*I9 -> 4844.5667 | M13: ,
A14: 6.9 | B14: 2 | C14: 0.7 | D14: 300 | F14: 6 | G14: =VLOOKUP(F14,dub,2,FALSE) -> 3
A15: 6.8 | B15: 3 | C15: 1.4 | D15: 600 | I15: =K19*J15 -> 3000 | J15: 1000 | K15: 10000 | L15: =K18*J15 -> 1300
A16: 6.7 | B16: 4 | C16: 2.1 | D16: 850 | G16: Stv
A17: 6.6 | B17: 5 | C17: 2.7 | D17: 1065 | H17: 1 | I17: 0
A18: 6.5 | B18: 6 | C18: 3.5 | D18: 1450 | F18: =VLOOKUP(F14,dubi,2,FALSE) -> 30 | G18: 1 | H18: 2 | I18: 1 | J18: 5 | K18: =VLOOKUP(J18,stv,2,FALSE) -> 1.3
A19: 6.4 | B19: 7 | C19: 4.3 | D19: 1800 | G19: 1.1 | H19: 3 | I19: 1.1 | J19: 6 | K19: =VLOOKUP(J19,dub,2,FALSE) -> 3 | L19: =L15*I15 -> 3900000 | M19: =I15/100 -> 30
A20: 6.3 | B20: 8 | C20: 5.4 | D20: 2250 | G20: 1.2 | H20: 4 | I20: 1.2 | K20: 3.5
A21: 6.2 | B21: 9 | C21: 6.5 | D21: 2750 | G21: 1.3 | H21: 5 | I21: 1.3 | J21: Kalijum
A22: 6.1 | B22: 10 | C22: 8.3 | D22: 3500 | G22: 1.4 | H22: 6 | I22: 1.4 | J22: 7
A23: 6 | B23: 11 | C23: 11 | D23: 4500 | G23: 1.5 | H23: 7 | I23: 1.5 | J23: 1
A24: 5.9 | B24: 12 | C24: 14 | D24: 6000 | G24: 1.6 | H24: 8 | I24: 1.6 | J24: =VLOOKUP(J23,dub,2,FALSE) -> 0 | K24: =J24*1000 -> 0 | L24: =K24*K25 -> 0
A25: 5.8 | B25: 13 | C25: 23 | D25: 9500 | G25: 1.7 | H25: 9 | I25: 1.7 | J25: 1 | K25: =J25*J15 -> 1000 | M25: =K24/100 -> 0
G26: 1.8 | H26: 10 | I26: 1.8 | J26: =VLOOKUP(J25,stv,2,FALSE) -> 0 | K26: =J26*1000 -> 0 | L26: =K24*K26 -> 0
G27: 1.9 | H27: 11 | I27: 1.9
G28: 2 | H28: 12 | I28: 2
B29: =VLOOKUP(F31,MAP,2,FALSE) -> Super fosfat
B30: 1 | C30: Bez đub. | D30: 1 | E30: 0
A31: =MEL!E22 -> 5 | B31: 2 | C31: Super fosfat | D31: 2 | E31: 0.18 | F31: 2 | G31: =VLOOKUP(F31,pp,2,FALSE) -> 0.18 | I31: 1 | J31: Bez đubriva
A32: =MEL!B25 -> 20 | B32: 3 | C32: Tripleks | D32: 3 | E32: 0.45 | I32: 2 | J32: Superfosfat (kg/ha)
A33: =A32-A31 -> 15 | B33: 4 | C33: Precipitat | D33: 4 | E33: 0.4 | I33: 3 | J33: Tripleks (kg/ha) | M33: =VLOOKUP(F31,sup,3,FALSE) -> 0
A34: =A33/1000 -> 0.015 | B34: 5 | C34: MAP | D34: 5 | E34: 0.52 | I34: 4 | J34: Precipitat (kg/ha)
A35: =A34/100 -> 0.00015 | B35: 6 | C35: Tomas fosfat | D35: 6 | E35: 0.13 | I35: 5 | J35: MAP (kg/ha) | K35: 0.12 | N35: =D38*M33 -> 0
I36: 6 | J36: Tomasfosfat (kg/ha)
A38: =MEL!E31 -> 0 | C38: =A35*L19 -> 585 | D38: =C38/G31 -> 3250 | E38: =VLOOKUP(F31,sup,2,FALSE) -> Superfosfat (kg/ha)
A39: =MEL!B34 -> 0
A40: =A39-A38 -> 0
A41: =A40/1000 -> 0
...

Sheet List2
B1: Iznošenje hranjiva | F1: 4,0-5,5 | G1: 5,6-8,0 | Q1: Bez | R1: 0 | T1: 1 | U1: =VLOOKUP(T1,ostaci,2,FALSE)-1 -> 0
B2: N | C2: P | D2: K | F2: <2 | G2: <2, | H2: 2 | I2: <2 | J2: 1 | K2: 2 | L2: 0-5 | M2: 2 | N2: 2 | O2: 0-5 | P2: 1.5 | Q2: 1 | R2: 1 | S2: 8 | T2: =IF(ISERROR((S2*U1)),"",(S2*U1)) -> 0 | U2: 0.46
A3: Pšenica | B3: 25 | C3: 13 | D3: 22 | F3: 2-4 | G3: 2-4, | H3: 3 | I3: 2-4 | J3: 0.9 | K3: 3 | L3: 5-10 | M3: 1.5 | N3: 3 | O3: 5-10 | P3: 1.25 | Q3: 2 | R3: 2
A4: Raž | B4: 24 | C4: 12 | D4: 26 | F4: >4 | G4: >4, | H4: 4 | I4: >4 | J4: 0.8 | K4: 4 | L4: 10-15 | M4: 1.25 | N4: 4 | O4: 10-15 | P4: 1 | Q4: 3 | R4: 3 | T4: =IF(ISERROR((T2/U2)),"",(T2/U2)) -> 0
A5: Ječam | B5: 22 | C5: 14 | D5: 23 | H5: 5 | I5: <2, | J5: 0.9 | K5: 5 | L5: 15-20 | M5: 1 | N5: 5 | O5: 15-20 | P5: 0.8 | Q5: 4 | R5: 4
A6: Ovas | B6: 28 | C6: 12 | D6: 29 | F6: =R44 -> 0 | H6: 6 | I6: 2-4, | J6: 0.9 | K6: 6 | L6: 20-30 | M6: 0.9 | N6: 6 | O6: 20-30 | P6: 0.7 | Q6: 5 | R6: 5 | U6: Jedinačna đurbiva
A7: Kukuruz (zrno) | B7: 26 | C7: 11 | D7: 25 | F7: =R45 -> 0 | H7: 7 | I7: >4, | J7: 0.6 | K7: 7 | L7: >30 | M7: 0.8 | N7: 7 | O7: >30 | P7: 0.5 | Q7: 6 | R7: 6 | U7: Bez | V7: 1 | W7: =VLOOKUP(V7,fosfdj,3,FALSE) -> 0
A8: Grašak | B8: 60 | C8: 15 | D8: 35 | F8: =R46 -> 0 | H8: 2 | I8: azot | L8: 1 | M8: Fosfor | O8: 1 | P8: Kalijum | Q8: 7 | R8: 7 | S8: 1 | U8: 1 | V8: Bez P-đubriva | W8: 0
A9: Soja | B9: 70 | C9: 15 | D9: 28 | E9: 1 | F9: NPK Đubriva | K9: Startno | L9: 1 | P9: Stajnjak | Q9: 8 | R9: 8 | U9: 2 | V9: Superfosfat | W9: 0.18
A10: Stočni grašak (zrno) | B10: 58 | C10: 15 | D10: 35 | O10: 1 | U10: 3 | V10: Tripleks | W10: 0.45
A11: Lucerka (sijeno) | B11: 28 | C11: 7 | D11: 18 | E11: 2 | F11: .0:13:16 | G11: 0 | H11: 0.13 | I11: 0.16 | J11: 2 | K11: .10:10:10 | L11: 0.1 | M11: 0.1 | N11: 0.1 | O11: 2 | P11: 10 | R11: 2 | S11: 1. godina | T11: 0.5 | U11: 4 | V11: Precipitat | W11: 0.4
A12: Šećerna repa | B12: 4 | C12: 2 | D12: 6 | E12: 3 | F12: .0:15:25 | G12: 0 | H12: 0.15 | I12: 0.25 | J12: 3 | K12: .15:15:15 | L12: 0.15 | M12: 0.15 | N12: 0.15 | O12: 3 | P12: 15 | R12: 3 | S12: 2. godina | T12: 0.3 | U12: 5 | V12: MAP | W12: 0.52
A13: Krompir | B13: 5 | C13: 2 | D13: 8 | E13: 4 | F13: .0:20:30 | G13: 0 | H13: 0.2 | I13: 0.3 | J13: 4 | K13: .14:14:14 | L13: 0.14 | M13: 0.14 | N13: 0.14 | O13: 4 | P13: 20 | R13: 4 | S13: 3. godina | T13: 0.2
A14: Uljana repica (zrno) | B14: 51 | C14: 28 | D14: 51 | E14: 5 | F14: .5:10:20 | G14: 0.05 | H14: 0.1 | I14: 0.2 | J14: 5 | K14: .16:16:16 | L14: 0.16 | M14: 0.16 | N14: 0.16 | O14: 5 | P14: 25 | U14: Kalijum | W14: 2
A15: Suncokret (zrno) | B15: 53 | C15: 30 | D15: 153 | E15: 6 | F15: .5:15:30 | G15: 0.05 | H15: 0.15 | I15: 0.3 | J15: 6 | K15: .17:17:17 | L15: 0.17 | M15: 0.17 | N15: 0.17 | O15: 6 | P15: 30 | T15: 1 | U15: Bez K-đubriva | V15: 0
A16: Duvan | B16: 55 | C16: 16 | D16: 82 | E16: 7 | F16: .7:20:30 | G16: 0.07 | H16: 0.2 | I16: 0.3 | J16: 7 | K16: .20:15:12 | L16: 0.2 | M16: 0.15 | N16: 0.12 | O16: 7 | P16: 35 | T16: 2 | U16: K-sol 40% | V16: 0.4
A17: Sjemenska repa | B17: 37 | C17: 16 | D17: 50 | E17: 8 | F17: .7:14:18 | G17: 0.07 | H17: 0.14 | I17: 0.18 | J17: 8 | K17: .3:11:20 | L17: 0.03 | M17: 0.11 | N17: 0.2 | O17: 8 | P17: 40 | Q17: N | R17: P | S17: K | T17: 3 | U17: K-sol 60% | V17: 0.6
A18: Kukuruz (silaža) | B18: 2 | C18: 1 | D18: 4 | E18: 9 | F18: .8:12:16+3 MgO | G18: 0.08 | H18: 0.12 | I18: 0.16 | J18: 9 | K18: .11:11:16 | L18: 0.11 | M18: 0.11 | N18: 0.16 | P18: =U35 -> #N/A | Q18: 5 | R18: 2.5 | S18: 5 | T18: 4 | U18: K-sulfat | V18: 0.5
A19: Krastavac | B19: 2 | C19: 3.2 | D19: 2 | E19: 10 | F19: .8:16:24 | G19: 0.08 | H19: 0.16 | I19: 0.24 | J19: 10 | K19: .17:13:10 | L19: 0.17 | M19: 0.13 | N19: 0.1 | Q19: =P18*Q18 -> #N/A | R19: =P18*R18 -> #N/A | S19: =P18*S18 -> #N/A | T19: 5 | U19: Mg-K-sulfat | V19: 0.3
A20: Malina | B20: 6.25 | C20: 1.88 | D20: 7.5 | E20: 11 | F20: .10:12:16 | G20: 0.1 | H20: 0.12 | I20: 0.16 | J20: 1 | K20: .Vratiti | L20: N | M20: P | N20: K | O20: =DJUB!D15 -> 0 | Q20: =VLOOKUP(S8,st,3,FALSE) -> #N/A | R20: =VLOOKUP(S8,st,3,FALSE) -> #N/A | S20: =VLOOKUP(S8,st,3,FALSE) -> #N/A
E21: 12 | F21: .10:20:30 | G21: 0.1 | H21: 0.2 | I21: 0.3 | J21: =VLOOKUP(J20,humsol,2,FALSE) -> #N/A | K21: =VLOOKUP(J21,Na,2,FALSE) -> #N/A | Q21: =Q19*Q20 -> #N/A | R21: =R19*R20 -> #N/A | S21: =S19*S20 -> #N/A
A22: Planiani prinos | E22: 13 | F22: .10:30:20 | G22: 0.1 | H22: 0.3 | I22: 0.2 | J22: =VLOOKUP(L8,F,2,FALSE) -> #N/A | M22: =VLOOKUP(L8,F,3,FALSE) -> #N/A | U22: =IF(ISERROR((DJUB!T37)),"",(DJUB!T37)) | V22: =DJUB!T11
A23: =DJUB!J12 -> 0 | E23: 14 | F23: .12:30:16 | G23: 0.12 | H23: 0.3 | I23: 0.16 | J23: =DJUB!D18 -> 15-20 | N23: =VLOOKUP(O8,K,3,FALSE) -> #N/A | O23: 1 | U23: =IF(ISERROR((ABS(U22))),"",(ABS(U22))) | V23: =IF(ISERROR((ABS(V22))),"",(ABS(V22)))
A24: NPK | B24: N | C24: P | D24: K | E24: 15 | F24: .15:15:15 | G24: 0.15 | H24: 0.15 | I24: 0.15 | R24: =VLOOKUP(W14,kalijumdj,2,FALSE) -> K-sol 40% | S24: =VLOOKUP(R24,kdj,2,FALSE) -> 0.4 | T24: =IF(ISERROR((U23/S24)),"",(U23/S24))
A25: =IF(ISERROR((VLOOKUP(L9,start,2,FALSE))),"",(VLOOKUP(L9,start,2,FALSE))) | B25: =IF(ISERROR((VLOOKUP($A$25,Startno,2,FALSE))),"0",(VLOOKUP($A$25,Startno,2,FALSE))) -> 0 | C25: =IF(ISERROR((VLOOKUP($A$25,Startno,3,FALSE))),"0",(VLOOKUP($A$25,Startno,3,FALSE))) -> 0 | D25: =IF(ISERROR((VLOOKUP($A$25,Startno,4,FALSE))),"0",(VLOOKUP($A$25,Startno,4,FALSE))) -> 0 | N25: 1 | O25: Bez prih. | P25: 0 | R25: =VLOOKUP(V7,fosfdj,2,FALSE) -> Bez P-đubriva | S25: =VLOOKUP(R25,p,2,FALSE) -> 0 | T25: =IF(ISERROR((V23*S25)),"",(V23*S25))
A26: NPK,Osno | N26: 2 | O26: KAN | P26: 0.27
B27: =VLOOKUP(A28,NPKP,2,FALSE) -> #N/A | C27: =VLOOKUP(A28,NPKP,3,FALSE) -> #N/A | D27: =VLOOKUP(A28,NPKP,4,FALSE) -> #N/A | E27: =IF(ISERROR((D27/C27)),"",(D27/C27)) | J27: humus | K27: Vratiti azot | L27: Fosfor | M27: Kalijum | N27: 3 | O27: Urea | P27: 0.46
A28: =VLOOKUP(E9,NPK,2,FALSE) -> #N/A | C28: Iznošenje | D28: =VLOOKUP(K34,usjev,2,FALSE) -> Pšenica | G28: pH - Humus | I28: =Q43 -> #N/A | J28: =J21 -> #N/A | L28: =J22 -> #N/A | M28: =J23 -> 15-20
C29: N | D29: P | E29: K | I29: =Q45 | K29: =K21 -> #N/A | L29: =M22 -> #N/A | M29: =N23 -> #N/A
C30: =IF(ISERROR((Q35)),"",(Q35)) -> 25 | D30: =IF(ISERROR((R35)),"",(R35)) -> 13 | E30: =IF(ISERROR((S35)),"",(S35)) -> 22 | I30: =Q46
I31: =Q47
S33: 1
A34: Iznošenje | B34: N | C34: P | D34: K | F34: NPK đurbivo | G34: N | H34: P | I34: K | K34: 1 | M34: N | N34: P | O34: K | U34: Stajnjak
B35: =IF(ISERROR((A23*C30)),"",(A23*C30)) -> 0 | C35: =IF(ISERROR((A23*D30)),"",(A23*D30)) -> 0 | D35: =IF(ISERROR((A23*E30)),"",(A23*E30)) -> 0 | F35: =A28 -> #N/A | L35: 1 | M35: 25 | N35: 13 | O35: 22 | Q35: =VLOOKUP($K$34,hranj,2,FALSE) -> 25 | R35: =VLOOKUP($K$34,hranj,3,FALSE) -> 13 | S35: =VLOOKUP($K$34,hranj,4,FALSE) -> 22 | U35: =VLOOKUP(O10,stajnjak,2,FALSE) -> #N/A
A36: Vratiti | B36: =IF(ISERROR((B35*K21)),"",(B35*K21)) | C36: =IF(ISERROR((C35*M22)),"",(C35*M22)) | D36: =IF(ISERROR((D35*N23)),"",(D35*N23)) | F36: =IF(ISERROR((C40/C27)),"",(C40/C27)) | G36: =IF(ISERROR((F36*B27)),"",(F36*B27)) | H36: =F36*C27 -> #VALUE! | I36: =F36*D27 -> #VALUE! | L36: 2 | M36: 24 | N36: 12 | O36: 26
A37: iz stnjaka | B37: =IF(ISERROR((Q21)),"0",(Q21)) -> 0 | C37: =IF(ISERROR((R21)),"0",(R21)) -> 0 | D37: =IF(ISERROR((S21)),"0",(S21)) -> 0 | F37: =DJUB!D21 -> 0 | G37: =F37*B25 -> 0 | H37: =E41*C25 -> 0 | I37: =F37*D25 -> 0 | L37: 3 | M37: 22 | N37: 14 | O37: 23
A38: Ukupno | B38: =IF(ISERROR((B36-B37)),"",(B36-B37)) | C38: =IF(ISERROR((C36-C37)),"",(C36-C37)) | D38: =IF(ISERROR((D36-D37)),"",(D36-D37)) | L38: 4 | M38: 28 | N38: 12 | O38: 29 | Q38: 2 | R38: =F1 -> 4,0-5,5 | S38: =F2 -> <2 | T38: =F3 -> 2-4 | U38: =F4 -> >4
A39: startno | B39: =G37 -> 0 | C39: =H37 -> 0 | D39: =I37 -> 0 | L39: 5 | M39: 26 | N39: 11 | O39: 25 | Q39: 3 | R39: =G1 -> 5,6-8,0 | S39: =G2 -> <2, | T39: =G3 -> 2-4, | U39: =G4 -> >4,
A40: Konačno | B40: =IF(ISERROR((B38-B39)),"",(B38-B39)) | C40: =IF(ISERROR((C38-C39)),"",(C38-C39)) | D40: =IF(ISERROR((D38-D39)),"",(D38-D39)) | E40: =IF(ISERROR((D40/C40)),"",(D40/C40)) | G40: =IF(ISERROR((G36+G37+B37+C45)),"",(G36+G37+B37+C45)) | H40: =H36+H37+C37 -> #VALUE! | I40: =I36+I37+D37 -> #VALUE! | L40: 6 | M40: 60 | N40: 15 | O40: 35
B41: =IF(ISERROR((G36)),"",(G36)) | C41: =IF(ISERROR((H36)),"",(H36)) | D41: =IF(ISERROR((I36)),"",(I36)) | E41: =DJUB!D21 -> 0 | L41: 7 | M41: 70 | N41: 15 | O41: 28
...
